Workbook
Name _1__xlnm.Print_Area: #REF!
Name _2__xlnm.Print_Area_1: #REF!
Name BM: #REF!
Name SI: Desglose!$D$24

Sheet Tutorial
B2: Instrucciones para completar información del presupuesto del proyecto - ACT 06.10.26
B3: Solamente puede completarse información en las celdas en color amarillo. No se permite desbloquear o modificar la planilla; en tal caso se solicitará que la misma se vuelva a presentar.
B4: En la columna ELEGIBLE debe seleccionarse la opción SI si el gasto corresponde a actividades elegibles de acuerdo a las Bases de la convocatoria. Las celdas bloqueadas con NO no son elegibles para este programa. Recuerde que los gastos no elegibles no forman parte del presupuesto del proyecto objeto de reembolso.
B5: Complete la Cantidad, Unidad (Gobal, Unidad, Dia, etc, según corresponda ) el importe en dólares americanos USD del bien o servicio indicado en cada fila. El costo es el producto entre la Cantidad y el Importe unitario. Realice las aclaraciones necesarias en la casilla Descripción al final de cada fila completada.
B6: La hoja "Carátula" resume la información completada en la pestaña "Desglose" incluyendo la pestaña de "Animación", y no requiere información adicional, a excepción de los imprevistos los cuales no sumarán al Total Elegible
B7: Las columnas de Control de Ejecución no deben completarse en la postulación, sino una vez se hayan ejecutado las actividades y debe presentarse junto con la rendición final de gastos.

Sheet Carátula
B1: TAX CREDIT SERVICIOS DE PRODUCCIÓN Y/O POSTPRODUCCIÓN AUDIOVISUAL INTERNACIONAL PARA CONTENIDOS PUBLICITARIOS
B2: PLANILLA DE PRESUPUESTO
B3: CONSIDERACIONES :
B4: Véase la pestaña "Tutorial"
B5: Las celdas de color amarillo son las únicas que se encuentran desbloqueadas a efectos de ingresar información y/o montos correspondientes al proyecto postulado.
B6: Se sugiere descargar la planilla y trabajarla en formato excel ya que su uso on line o con otros programas puede automáticamente desbloquear celdas con fórmulas pudiendo éstas
B7: alterarse accidentalmente.
B8: NOMBRE DEL PROYECTO:
B9: Fecha:
B10: Tipo de Cambio $:
B11: RUBRO | C11: CONCEPTO | D11: TOTAL USD | E11: TOTAL ELEGIBLE USD | H11: CONTROL
B12: SOBRE LA LÍNEA | H12: EJECUTADO USD | I12: DESVÍO %
B13: 1 | C13: LIBRO - ARGUMENTO - GUION | D13: =+Desglose!H18 -> 0 | E13: =+Desglose!I18 -> 0 | H13: =+Desglose!L18 -> 0 | I13: =Desglose!N18 -> 0
B14: 2 | C14: RRHH DIRECCIÓN | D14: =+Desglose!H39 -> 0 | E14: =+Desglose!I39 -> 0 | H14: =+Desglose!L39 -> 0 | I14: =Desglose!N39 -> 0
B15: 3 | C15: RRHH PRODUCCIÓN EJECUTIVA | D15: =+Desglose!H60 -> 0 | E15: =+Desglose!I60 -> 0 | H15: =+Desglose!L60 -> 0 | I15: =Desglose!N60 -> 0
B16: 4 | C16: GASTOS DE CASTING & ELENCO | D16: =+Desglose!H92 -> 0 | E16: =+Desglose!I92 -> 0 | H16: =+Desglose!L92 -> 0 | I16: =Desglose!N92 -> 0
B17: Subtotal GASTOS SOBRE LA LINEA | D17: =SUM(D13:D16) -> 0 | E17: =SUM(E13:E16) -> 0 | H17: =SUM(H13:H16) -> 0 | I17: =IF((H17-E17)=0,0,(IF(E17=(H17-E17)=0,1,(IF(E17=0,1,(H17-E17)/E17))))) -> 0
B19: PRE PRODUCCIÓN & PRODUCCIÓN | H19: EJECUTADO USD | I19: DESVÍO %
B20: 5 | C20: RRHH ELENCO EXTRAS | D20: =+Desglose!H103 -> 0 | E20: =+Desglose!I103 -> 0 | H20: =+Desglose!L103 -> 0 | I20: =Desglose!N103 -> 0
B21: 6 | C21: RRHH EQUIPO TÉCNICO | D21: =+Desglose!H816 -> 0 | E21: =+Desglose!I816 -> 0 | H21: =+Desglose!L816 -> 0 | I21: =Desglose!N816 -> 0
B22: 7 | C22: VESTUARIO | D22: =+Desglose!H827 -> 0 | E22: =+Desglose!I827 -> 0 | H22: =+Desglose!L827 -> 0 | I22: =Desglose!N827 -> 0
B23: 8 | C23: MAQUILLAJE & PELUQUERÍA | D23: =+Desglose!H835 -> 0 | E23: =+Desglose!I835 -> 0 | H23: =+Desglose!L835 -> 0 | I23: =Desglose!N835 -> 0
B24: 9 | C24: UTILERÍA | D24: =+Desglose!H843 -> 0 | E24: =+Desglose!I843 -> 0 | H24: =+Desglose!L843 -> 0 | I24: =Desglose!N843 -> 0
B25: 10 | C25: DISEÑO DE SET, AMBIENTACIÍON Y ESCENOGRAFIA | D25: =+Desglose!H856 -> 0 | E25: =+Desglose!I856 -> 0 | H25: =+Desglose!L856 -> 0 | I25: =Desglose!N856 -> 0
B26: 11 | C26: LOCACIONES | D26: =+Desglose!H869 -> 0 | E26: =+Desglose!I869 -> 0 | H26: =+Desglose!L869 -> 0 | I26: =Desglose!N869 -> 0
B27: 12 | C27: ANIMALES | D27: =+Desglose!H883 -> 0 | E27: =+Desglose!I883 -> 0 | H27: =+Desglose!L883 -> 0 | I27: =+Desglose!N883 -> 0
B28: 13 | C28: EQUIPAMIENTO | D28: =+Desglose!H904 -> 0 | E28: =+Desglose!I904 -> 0 | H28: =+Desglose!L904 -> 0 | I28: =Desglose!N904 -> 0
B29: 14 | C29: EFECTOS ESPECIALES EN RODAJE | D29: =+Desglose!H911 -> 0 | E29: =+Desglose!I911 -> 0 | H29: =+Desglose!L911 -> 0 | I29: =Desglose!N911 -> 0
B30: 15 | C30: MOVILIDAD | D30: =+Desglose!H935 -> 0 | E30: =+Desglose!I935 -> 0 | H30: =+Desglose!L935 -> 0 | I30: =Desglose!N935 -> 0
B31: 16 | C31: FUERZA MOTRIZ | D31: =+Desglose!H942 -> 0 | E31: =+Desglose!I942 -> 0 | H31: =+Desglose!L942 -> 0 | I31: =Desglose!N942 -> 0
B32: 17 | C32: COMIDAS Y ALOJAMIENTO | D32: =+Desglose!H953 -> 0 | E32: =+Desglose!I953 -> 0 | H32: =+Desglose!L953 -> 0 | I32: =Desglose!N953 -> 0
B33: 18 | C33: SEGURIDAD | D33: =+Desglose!H959 -> 0 | E33: =+Desglose!I959 -> 0 | H33: =+Desglose!L959 -> 0 | I33: =Desglose!N959 -> 0
B34: 19 | C34: DATA & MATERIAL VIRGEN | D34: =+Desglose!H967 -> 0 | E34: =+Desglose!I967 -> 0 | H34: =+Desglose!L967 -> 0 | I34: =Desglose!N960 -> 0
B35: Subtotal PRE PRODUCCIÓN & PRODUCCIÓN | D35: =SUM(D20:D34) -> 0 | E35: =SUM(E20:E34) -> 0 | H35: =SUM(H20:H34) -> 0 | I35: =IF((H35-E35)=0,0,(IF(E35=(H35-E35)=0,1,(IF(E35=0,1,(H35-E35)/E35))))) -> 0
B37: GASTOS DE POST PRODUCCIÓN | H37: EJECUTADO USD | I37: DESVÍO %
B38: 20 | C38: DATA & MATERIAL DE ARCHIVO | D38: =+Desglose!H981 -> 0 | E38: =+Desglose!I981 -> 0 | H38: =+Desglose!L981 -> 0 | I38: 0
B39: 21 | C39: EDICIÓN : RRHH | D39: =+Desglose!H989 -> 0 | E39: =+Desglose!I989 -> 0 | H39: =+Desglose!L989 -> 0 | I39: 0
B40: 22 | C40: EDICIÓN : SERVICIOS Y PROCESOS | D40: =+Desglose!H998 -> 0 | E40: =+Desglose!I998 -> 0 | H40: =+Desglose!L998 -> 0 | I40: =+'[1]Post producción'!N78 -> 0
B41: 23 | C41: EDICIÓN : EQUIPAMIENTO | D41: =+Desglose!H1008 -> 0 | E41: =+Desglose!I1008 -> 0 | H41: =+Desglose!L1008 -> 0 | I41: =+'[1]Post producción'!N88 -> 0
B42: 24 | C42: POST PRODUCCIÓN DE IMAGEN : RRHH | D42: =+Desglose!H1021 -> 0 | E42: =+Desglose!I1021 -> 0 | H42: =+Desglose!L1021 -> 0 | I42: =+'[1]Post producción'!N107 -> 0
...

Sheet Desglose
B2: Por favor, complete la información en las celdas amarillas. | N2: Control de ejecución
L4: El Ejecutado y la justificación no se completan en la postulación sino una vez se hayan ejecutado las actividades.
B6: RUBRO | C6: NOMBRE DEL RUBRO | D6: ELEGIBLE | E6: CANTIDAD | F6: UNIDAD | G6: COSTO USD X UNIDAD | H6: TOTAL USD | I6: TOTAL ELEGIBLE USD | J6: DESCRIPCIÓN | L6: EJECUTADO USD | M6: DESVÍO USD | N6: DESVÍO % | O6: JUSTIFICACIÓN DEL DESVÍO
B8: SOBRE LA LÍNEA
B10: 1 | C10: LIBRO - ARGUMENTO - GUION
B11: 1.1 | C11: Idea Original / Derechos de Obra Adaptada | D11: NO | H11: =E11*G11 -> 0 | I11: =IF(D11="SI",H11,0) -> 0 | L11: 0 | M11: =+L11-I11 -> 0 | N11: =IF(M11=0,0,(IF(I11=M11=0,1,(IF(I11=0,1,M11/I11))))) -> 0
B12: 1.2 | C12: Honorarios Guionista en Rodaje (ver tope en bases) | D12: NO | H12: =E12*G12 -> 0 | I12: =IF(D12="SI",H12,0) -> 0 | L12: 0 | M12: =+L12-I12 -> 0 | N12: =IF(M12=0,0,(IF(I12=M12=0,1,(IF(I12=0,1,M12/I12))))) -> 0
B13: 1.3 | C13: Copias de guion en preproduccion y rodaje | D13: NO | H13: =E13*G13 -> 0 | I13: =IF(D13="SI",H13,0) -> 0 | L13: 0 | M13: =+L13-I13 -> 0 | N13: =IF(M13=0,0,(IF(I13=M13=0,1,(IF(I13=0,1,M13/I13))))) -> 0
B14: 1.4 | C14: Story Board en preproducción y rodaje | D14: NO | H14: =E14*G14 -> 0 | I14: =IF(D14="SI",H14,0) -> 0 | L14: 0 | M14: =+L14-I14 -> 0 | N14: =IF(M14=0,0,(IF(I14=M14=0,1,(IF(I14=0,1,M14/I14))))) -> 0
B15: 1.5 | C15: Traducciones en preproducción y rodaje | D15: NO | H15: =E15*G15 -> 0 | I15: =IF(D15="SI",H15,0) -> 0 | L15: 0 | M15: =+L15-I15 -> 0 | N15: =IF(M15=0,0,(IF(I15=M15=0,1,(IF(I15=0,1,M15/I15))))) -> 0
B16: 1.6 | C16: Investigación en preproducción y rodaje | D16: NO | H16: =E16*G16 -> 0 | I16: =IF(D16="SI",H16,0) -> 0 | L16: 0 | M16: =+L16-I16 -> 0 | N16: =IF(M16=0,0,(IF(I16=M16=0,1,(IF(I16=0,1,M16/I16))))) -> 0
B17: 1.7 | C17: Diseñador | D17: NO | H17: =E17*G17 -> 0 | I17: =IF(D17="SI",H17,0) -> 0 | L17: 0 | M17: =+L17-I17 -> 0 | N17: =IF(M17=0,0,(IF(I17=M17=0,1,(IF(I17=0,1,M17/I17))))) -> 0
E18: SUBTOTALES: | H18: =SUM(H11:H17) -> 0 | I18: =SUM(I11:I17) -> 0 | L18: =SUM(L11:L17) -> 0 | M18: =SUM(M11:M17) -> 0 | N18: =IF(M18=0,0,(IF(I18=M18=0,1,(IF(I18=0,1,M18/I18))))) -> 0
B20: Puede ingresar 1 global en cualquiera de las etapas y aclarar en la "Descripción" que corresponde a todo el proyecto
B22: 2 | C22: DIRECCIÓN
B23: 2.1 | C23: Director | H23: =SUM(H24:H26) -> 0 | I23: =SUM(I24:I26) -> 0 | L23: =SUM(L24:L26) -> 0 | M23: =SUM(M24:M26) -> 0 | N23: =IF(M23=0,0,(IF(I23=M23=0,1,(IF(I23=0,1,M23/I23))))) -> 0
B24: 2.1.1 | C24: Pre Producción | D24: NO | H24: =E24*G24 -> 0 | I24: =IF(D24="SI",H24,0) -> 0 | L24: 0 | M24: =+L24-I24 -> 0 | N24: =IF(M24=0,0,(IF(I24=M24=0,1,(IF(I24=0,1,M24/I24))))) -> 0
B25: 2.1.2 | C25: Rodaje | D25: NO | H25: =E25*G25 -> 0 | I25: =IF(D25="SI",H25,0) -> 0 | L25: 0 | M25: =+L25-I25 -> 0 | N25: =IF(M25=0,0,(IF(I25=M25=0,1,(IF(I25=0,1,M25/I25))))) -> 0
B26: 2.1.3 | C26: Cierre | D26: NO | H26: =E26*G26 -> 0 | I26: =IF(D26="SI",H26,0) -> 0 | L26: 0 | M26: =+L26-I26 -> 0 | N26: =IF(M26=0,0,(IF(I26=M26=0,1,(IF(I26=0,1,M26/I26))))) -> 0
B27: 2.2 | C27: Asesor Técnico / Especializado | H27: =SUM(H28:H30) -> 0 | I27: =SUM(I28:I30) -> 0 | L27: =SUM(L28:L30) -> 0 | M27: =SUM(M28:M30) -> 0 | N27: =IF(M27=0,0,(IF(I27=M27=0,1,(IF(I27=0,1,M27/I27))))) -> 0
B28: 2.2.1 | C28: Pre Producción | D28: NO | H28: =E28*G28 -> 0 | I28: =IF(D28="SI",H28,0) -> 0 | L28: 0 | M28: =+L28-I28 -> 0 | N28: =IF(M28=0,0,(IF(I28=M28=0,1,(IF(I28=0,1,M28/I28))))) -> 0
B29: 2.2.2 | C29: Rodaje | D29: NO | H29: =E29*G29 -> 0 | I29: =IF(D29="SI",H29,0) -> 0 | L29: 0 | M29: =+L29-I29 -> 0 | N29: =IF(M29=0,0,(IF(I29=M29=0,1,(IF(I29=0,1,M29/I29))))) -> 0
B30: 2.2.3 | C30: Cierre | D30: NO | H30: =E30*G30 -> 0 | I30: =IF(D30="SI",H30,0) -> 0 | L30: 0 | M30: =+L30-I30 -> 0 | N30: =IF(M30=0,0,(IF(I30=M30=0,1,(IF(I30=0,1,M30/I30))))) -> 0
B31: 2.3 | C31: Entrenador de Diálogo y/o actuación | H31: =SUM(H32:H34) -> 0 | I31: =SUM(I32:I34) -> 0 | L31: =SUM(L32:L34) -> 0 | M31: =SUM(M32:M34) -> 0 | N31: =IF(M31=0,0,(IF(I31=M31=0,1,(IF(I31=0,1,M31/I31))))) -> 0
B32: 2.3.1 | C32: Pre Producción | D32: NO | H32: =E32*G32 -> 0 | I32: =IF(D32="SI",H32,0) -> 0 | L32: 0 | M32: =+L32-I32 -> 0 | N32: =IF(M32=0,0,(IF(I32=M32=0,1,(IF(I32=0,1,M32/I32))))) -> 0
B33: 2.3.2 | C33: Rodaje | D33: NO | H33: =E33*G33 -> 0 | I33: =IF(D33="SI",H33,0) -> 0 | L33: 0 | M33: =+L33-I33 -> 0 | N33: =IF(M33=0,0,(IF(I33=M33=0,1,(IF(I33=0,1,M33/I33))))) -> 0
B34: 2.3.3 | C34: Cierre | D34: NO | H34: =E34*G34 -> 0 | I34: =IF(D34="SI",H34,0) -> 0 | L34: 0 | M34: =+L34-I34 -> 0 | N34: =IF(M34=0,0,(IF(I34=M34=0,1,(IF(I34=0,1,M34/I34))))) -> 0
B35: 2.4 | C35: Otros, especificar | H35: =SUM(H36:H38) -> 0 | I35: =SUM(I36:I38) -> 0 | L35: =SUM(L36:L38) -> 0 | M35: =SUM(M36:M38) -> 0 | N35: =IF(M35=0,0,(IF(I35=M35=0,1,(IF(I35=0,1,M35/I35))))) -> 0
B36: 2.4.1 | C36: Pre Producción | D36: NO | H36: =E36*G36 -> 0 | I36: =IF(D36="SI",H36,0) -> 0 | L36: 0 | M36: =+L36-I36 -> 0 | N36: =IF(M36=0,0,(IF(I36=M36=0,1,(IF(I36=0,1,M36/I36))))) -> 0
B37: 2.4.2 | C37: Rodaje | D37: NO | H37: =E37*G37 -> 0 | I37: =IF(D37="SI",H37,0) -> 0 | L37: 0 | M37: =+L37-I37 -> 0 | N37: =IF(M37=0,0,(IF(I37=M37=0,1,(IF(I37=0,1,M37/I37))))) -> 0
B38: 2.4.3 | C38: Cierre | D38: NO | H38: =E38*G38 -> 0 | I38: =IF(D38="SI",H38,0) -> 0 | L38: 0 | M38: =+L38-I38 -> 0 | N38: =IF(M38=0,0,(IF(I38=M38=0,1,(IF(I38=0,1,M38/I38))))) -> 0
E39: SUBTOTALES: | H39: =+H35+H31+H27+H23 -> 0 | I39: =+I35+I31+I27+I23 -> 0 | L39: =+L23+L27+L31+L35 -> 0 | M39: =+M23+M27+M31+M35 -> 0 | N39: =IF(M39=0,0,(IF(I39=M39=0,1,(IF(I39=0,1,M39/I39))))) -> 0
B41: Puede ingresar 1 global en cualquiera de las etapas y aclarar en la "Descripción" que corresponde a todo el proyecto
B43: 3 | C43: PRODUCCIÓN EJECUTIVA
B44: 3.1 | C44: Productor Ejecutivo | H44: =SUM(H45:H47) -> 0 | I44: =SUM(I45:I47) -> 0 | L44: =SUM(L45:L47) -> 0 | M44: =SUM(M45:M47) -> 0 | N44: =IF(M44=0,0,(IF(I44=M44=0,1,(IF(I44=0,1,M44/I44))))) -> 0
B45: 3.1.1 | C45: Pre Producción | D45: NO | H45: =E45*G45 -> 0 | I45: =IF(D45="SI",H45,0) -> 0 | L45: 0 | M45: =+L45-I45 -> 0 | N45: =IF(M45=0,0,(IF(I45=M45=0,1,(IF(I45=0,1,M45/I45))))) -> 0
B46: 3.1.2 | C46: Rodaje | D46: NO | H46: =E46*G46 -> 0 | I46: =IF(D46="SI",H46,0) -> 0 | L46: 0 | M46: =+L46-I46 -> 0 | N46: =IF(M46=0,0,(IF(I46=M46=0,1,(IF(I46=0,1,M46/I46))))) -> 0
B47: 3.1.3 | C47: Cierre | D47: NO | H47: =E47*G47 -> 0 | I47: =IF(D47="SI",H47,0) -> 0 | L47: 0 | M47: =+L47-I47 -> 0 | N47: =IF(M47=0,0,(IF(I47=M47=0,1,(IF(I47=0,1,M47/I47))))) -> 0
B48: 3.2 | C48: Asistente de Producción Ejecutiva | H48: =SUM(H49:H51) -> 0 | I48: =SUM(I49:I51) -> 0 | L48: =SUM(L49:L51) -> 0 | M48: =SUM(M49:M51) -> 0 | N48: =IF(M48=0,0,(IF(I48=M48=0,1,(IF(I48=0,1,M48/I48))))) -> 0
B49: 3.2.1 | C49: Pre Producción | D49: NO | H49: =E49*G49 -> 0 | I49: =IF(D49="SI",H49,0) -> 0 | L49: 0 | M49: =+L49-I49 -> 0 | N49: =IF(M49=0,0,(IF(I49=M49=0,1,(IF(I49=0,1,M49/I49))))) -> 0
...

Sheet Animación
B2: GASTOS PROYECTOS EXCLUSIVAMENTE DE FORMATO ANIMACIÓN / PRESUPUESTO DE POSTULACIÓN
B4: Por favor, complete la información en las celdas amarillas. | N4: Control de ejecución
B7: RUBRO | C7: NOMBRE DEL RUBRO | D7: ELEGIBLE | E7: CANTIDAD | F7: UNIDAD | G7: COSTO USD X UNIDAD | H7: TOTAL USD | I7: TOTAL ELEGIBLE USD | J7: DESCRIPCIÓN | L7: EJECUTADO USD | M7: DESVÍO USD | N7: DESVÍO % | O7: JUSTIFICACIÓN DEL DESVÍO
B10: 33 | C10: PRODUCCIÓN EJECUTIVA
B11: =+B10+0.1 -> 33.1 | C11: Productor Ejecutivo | D11: NO | H11: =G11*E11 -> 0 | I11: =IF(D11="SI",H11,0) -> 0 | L11: 0 | M11: =+L11-I11 -> 0 | N11: =IFERROR((M11/I11),0) -> 0
B12: =+B11+0.1 -> 33.2 | C12: Asistente de Producción Ejecutiva | D12: NO | H12: =G12*E12 -> 0 | I12: =IF(D12="SI",H12,0) -> 0 | L12: 0 | M12: =+L12-I12 -> 0 | N12: =IFERROR((M12/I12),0) -> 0
B13: =+B12+0.1 -> 33.3 | C13: Line Producer | D13: NO | H13: =G13*E13 -> 0 | I13: =IF(D13="SI",H13,0) -> 0 | L13: 0 | M13: =+L13-I13 -> 0 | N13: =IFERROR((M13/I13),0) -> 0
B14: =+B13+0.1 -> 33.4 | C14: Asistente de Line Producer | D14: NO | H14: =G14*E14 -> 0 | I14: =IF(D14="SI",H14,0) -> 0 | L14: 0 | M14: =+L14-I14 -> 0 | N14: =IFERROR((M14/I14),0) -> 0
B15: =+B14+0.1 -> 33.5 | C15: Otros | D15: NO | H15: =G15*E15 -> 0 | I15: =IF(D15="SI",H15,0) -> 0 | L15: 0 | M15: =+L15-I15 -> 0 | N15: =IFERROR((M15/I15),0) -> 0
E16: SUBTOTALES: | H16: =SUM(H11:H15) -> 0 | I16: =SUM(I11:I15) -> 0 | L16: =SUM(L11:L15) -> 0 | M16: =SUM(M11:M15) -> 0 | N16: =IF(M16=0,0,(IF(I16=M16=0,1,(IF(I16=0,1,M16/I16))))) -> 0
B18: 34 | C18: CABEZAS DE EQUIPO
B19: =+B18+0.1 -> 34.1 | C19: Director de arte | D19: NO | H19: =G19*E19 -> 0 | I19: =IF(D19="SI",H19,0) -> 0 | L19: 0 | M19: =+L23-I19 -> 0 | N19: =IFERROR((M19/I19),0) -> 0
B20: =+B19+0.1 -> 34.2 | C20: Asistente de Director de arte | D20: NO | H20: =G20*E20 -> 0 | I20: =IF(D20="SI",H20,0) -> 0 | L20: 0 | M20: =+L20-I20 -> 0 | N20: =IFERROR((M20/I20),0) -> 0
B21: =+B20+0.1 -> 34.3 | C21: Director | D21: NO | H21: =G21*E21 -> 0 | I21: =IF(D21="SI",H21,0) -> 0 | L21: 0 | M21: =+L21-I21 -> 0 | N21: =IFERROR((M21/I21),0) -> 0
B22: =+B21+0.1 -> 34.4 | C22: Director de Línea | D22: NO | H22: =G22*E22 -> 0 | I22: =IF(D22="SI",H22,0) -> 0 | L22: 0 | M22: =+L22-I22 -> 0 | N22: =IFERROR((M22/I22),0) -> 0
B23: =+B22+0.1 -> 34.5 | C23: Asistente Director de Línea | D23: NO | H23: =G23*E23 -> 0 | I23: =IF(D23="SI",H23,0) -> 0 | L23: 0 | M23: =+L23-I23 -> 0 | N23: =IFERROR((M23/I23),0) -> 0
B24: =+B23+0.1 -> 34.6 | C24: Otros, especificar | D24: NO | H24: =G24*E24 -> 0 | I24: =IF(D24="SI",H24,0) -> 0 | L24: 0 | M24: =+L24-I24 -> 0 | N24: =IFERROR((M24/I24),0) -> 0
E25: SUBTOTALES: | H25: =SUM(H19:H24) -> 0 | I25: =SUM(I19:I24) -> 0 | L25: =SUM(L19:L24) -> 0 | M25: =SUM(M19:M24) -> 0 | N25: =IF(M25=0,0,(IF(I25=M25=0,1,(IF(I25=0,1,M25/I25))))) -> 0
B27: 35 | C27: PRE PRODUCCIÓN ANIMACIÓN
B28: =+B27+0.1 -> 35.1 | C28: Rensponsable de Animatic | D28: NO | H28: =G28*E28 -> 0 | I28: =IF(D28="SI",H28,0) -> 0 | L28: 0 | M28: =+L28-I28 -> 0 | N28: =IFERROR((M28/I28),0) -> 0
B29: =+B28+0.1 -> 35.2 | C29: Responsable Diseño de personajes | D29: NO | H29: =G29*E29 -> 0 | I29: =IF(D29="SI",H29,0) -> 0 | L29: 0 | M29: =+L29-I29 -> 0 | N29: =IFERROR((M29/I29),0) -> 0
B30: =+B29+0.1 -> 35.3 | C30: Responsable Diseño de set, vestuario, estructuras, rigging | D30: NO | H30: =G30*E30 -> 0 | I30: =IF(D30="SI",H30,0) -> 0 | L30: 0 | M30: =+L30-I30 -> 0 | N30: =IFERROR((M30/I30),0) -> 0
B31: =+B30+0.1 -> 35.4 | C31: Storyboard | D31: NO | H31: =G31*E31 -> 0 | I31: =IF(D31="SI",H31,0) -> 0 | L31: 0 | M31: =+L31-I31 -> 0 | N31: =IFERROR((M31/I31),0) -> 0
B32: =+B31+0.1 -> 35.5 | C32: otros, especificar | D32: NO | H32: =G32*E32 -> 0 | I32: =IF(D32="SI",H32,0) -> 0 | L32: 0 | M32: =+L32-I32 -> 0 | N32: =IFERROR((M32/I32),0) -> 0
E33: SUBTOTALES: | H33: =SUM(H28:H32) -> 0 | I33: =SUM(I28:I32) -> 0 | L33: =SUM(L28:L32) -> 0 | M33: =SUM(M28:M32) -> 0 | N33: =IF(M33=0,0,(IF(I33=M33=0,1,(IF(I33=0,1,M33/I33))))) -> 0
B35: 36 | C35: STOP MOTION DISEÑO DE SET & ESCENOGRAFÍA
B36: =+B35+0.1 -> 36.1 | C36: Investigación, Bocetos, renders | D36: NO | H36: =G36*E36 -> 0 | I36: =IF(D36="SI",H36,0) -> 0 | L36: 0 | M36: =+L36-I36 -> 0 | N36: =IFERROR((M36/I36),0) -> 0
B37: =+B36+0.1 -> 36.2 | C37: Compras - consumibles | D37: NO | H37: =G37*E37 -> 0 | I37: =IF(D37="SI",H37,0) -> 0 | L37: 0 | M37: =+L37-I37 -> 0 | N37: =IFERROR((M37/I37),0) -> 0
B38: =+B37+0.1 -> 36.3 | C38: Alquileres | D38: NO | H38: =G38*E38 -> 0 | I38: =IF(D38="SI",H38,0) -> 0 | L38: 0 | M38: =+L38-I38 -> 0 | N38: =IFERROR((M38/I38),0) -> 0
B39: =+B38+0.1 -> 36.4 | C39: Taxis, Uber, etc. | D39: NO | H39: =G39*E39 -> 0 | I39: =IF(D39="SI",H39,0) -> 0 | L39: 0 | M39: =+L39-I39 -> 0 | N39: =IFERROR((M39/I39),0) -> 0
B40: =+B39+0.1 -> 36.5 | C40: Compras - consumibles | D40: NO | H40: =G40*E40 -> 0 | I40: =IF(D40="SI",H40,0) -> 0 | L40: 0 | M40: =+L40-I40 -> 0 | N40: =IFERROR((M40/I40),0) -> 0
B41: =+B40+0.1 -> 36.6 | C41: Alquiler de máquinas y herramientas | D41: NO | H41: =G41*E41 -> 0 | I41: =IF(D41="SI",H41,0) -> 0 | L41: 0 | M41: =+L41-I41 -> 0 | N41: =IFERROR((M41/I41),0) -> 0
B42: =+B41+0.1 -> 36.7 | C42: Alquiler de depósitos | D42: NO | H42: =G42*E42 -> 0 | I42: =IF(D42="SI",H42,0) -> 0 | L42: 0 | M42: =+L42-I42 -> 0 | N42: =IFERROR((M42/I42),0) -> 0
B43: =+B42+0.1 -> 36.8 | C43: Alquiler de talleres | D43: NO | H43: =G43*E43 -> 0 | I43: =IF(D43="SI",H43,0) -> 0 | L43: 0 | M43: =+L43-I43 -> 0 | N43: =IFERROR((M43/I43),0) -> 0
B44: =+B43+0.1 -> 36.9 | C44: Faltantes & roturas | D44: NO | H44: =G44*E44 -> 0 | I44: =IF(D44="SI",H44,0) -> 0 | L44: 0 | M44: =+L44-I44 -> 0 | N44: =IFERROR((M44/I44),0) -> 0
B45: 36.1 | C45: Otros, especificar | D45: NO | H45: =G45*E45 -> 0 | I45: =IF(D45="SI",H45,0) -> 0 | L45: 0 | M45: =+L45-I45 -> 0 | N45: =IFERROR((M45/I45),0) -> 0
E46: SUBTOTALES: | H46: =SUM(H36:H45) -> 0 | I46: =SUM(I36:I45) -> 0 | L46: =SUM(L36:L45) -> 0 | M46: =SUM(M36:M45) -> 0 | N46: =IF(M46=0,0,(IF(I46=M46=0,1,(IF(I46=0,1,M46/I46))))) -> 0
B48: 37 | C48: ANIMACIÓN EQUIPAMIENTO
B49: =+B48+0.1 -> 37.1 | C49: Alquiler de equipo | D49: NO | H49: =G49*E49 -> 0 | I49: =IF(D49="SI",H49,0) -> 0 | L49: 0 | M49: =+L49-I49 -> 0 | N49: =IFERROR((M49/I49),0) -> 0
B50: =+B49+0.1 -> 37.2 | C50: Alquiler Isla de edición | D50: NO | H50: =G50*E50 -> 0 | I50: =IF(D50="SI",H50,0) -> 0 | L50: 0 | M50: =+L50-I50 -> 0 | N50: =IFERROR((M50/I50),0) -> 0
...
